BEGIN:VCALENDAR
VERSION:2.0
PRODID:-//Art´M - Kunst og Galleri - ECPv6.6.4//NONSGML v1.0//EN
CALSCALE:GREGORIAN
METHOD:PUBLISH
X-ORIGINAL-URL:https://art-m.dk
X-WR-CALDESC:Begivenheder for Art´M - Kunst og Galleri
REFRESH-INTERVAL;VALUE=DURATION:PT1H
X-Robots-Tag:noindex
X-PUBLISHED-TTL:PT1H
BEGIN:VTIMEZONE
TZID:Europe/Copenhagen
BEGIN:DAYLIGHT
TZOFFSETFROM:+0100
TZOFFSETTO:+0200
TZNAME:CEST
DTSTART:20260329T010000
END:DAYLIGHT
BEGIN:STANDARD
TZOFFSETFROM:+0200
TZOFFSETTO:+0100
TZNAME:CET
DTSTART:20261025T010000
END:STANDARD
END:VTIMEZONE
BEGIN:VEVENT
DTSTART;TZID=Europe/Copenhagen:20260110T120000
DTEND;TZID=Europe/Copenhagen:20260110T130000
DTSTAMP:20260425T170043
CREATED:20251210T155030Z
LAST-MODIFIED:20251210T155030Z
UID:78780-1768046400-1768050000@art-m.dk
SUMMARY:Nytårskur 2026
DESCRIPTION:Art´M inviterer til den traditionsrige nytårskur for første gang\ni de nye lokaliteter på Ove Jensens Alle 31.
URL:https://art-m.dk/event/nytaarskur-2026/
LOCATION:Art´M\, Ove Jensens Alle 31A\, Horsens\, 8700
ORGANIZER;CN="Kunstforeningen Art%C2%B4M":MAILTO:info@art-m.dk
END:VEVENT
END:VCALENDAR